BEGIN:VCALENDAR
VERSION:2.0
PRODID:icalendar-ruby
CALSCALE:GREGORIAN
METHOD:PUBLISH
BEGIN:VEVENT
DTSTAMP:20260424T205700Z
UID:16-638412@fcbc.biz
DTSTART:20260712T150000Z
DTEND:20260712T163000Z
CLASS:PUBLIC
CREATED:20260424T165006
DESCRIPTION:
LAST-MODIFIED:20260424T165006
LOCATION:
SUMMARY:Sunday Morning Worship
URL;VALUE=URI:https://www.fcbc.biz/events/sunday-morning-worship/2026-07-12
ATTACH;FILENAME=F7XCv.jpg;FMTTYPE=image/jpeg:https://dq5pwpg1q8ru0.cloudfro
 nt.net/2024/09/24/23/00/02/2b79928e-ea12-4854-bf03-3b0968e9ed60/F7XCv.jpg
END:VEVENT
END:VCALENDAR
