BEGIN:VCALENDAR
VERSION:2.0
PRODID:icalendar-ruby
CALSCALE:GREGORIAN
METHOD:PUBLISH
BEGIN:VEVENT
DTSTAMP:20260422T235732Z
UID:20-632147@fcbc.biz
DTSTART:20251001T223000Z
DTEND:20251002T000000Z
CLASS:PUBLIC
CREATED:20260422T170720
DESCRIPTION:
LAST-MODIFIED:20260422T170720
LOCATION:
SUMMARY:Wednesday Evening Prayer Meeting & Bible Study
URL;VALUE=URI:https://www.fcbc.biz/events/wednesday-evening-prayer-meeting-
 bible-study--20/2025-10-01
ATTACH;FILENAME=F7s2E.jpg;FMTTYPE=image/jpeg:https://dq5pwpg1q8ru0.cloudfro
 nt.net/2024/09/24/23/13/09/ccc9ad09-1ae6-4f1a-aa07-9e9ab02c2bcc/F7s2E.jpg
END:VEVENT
END:VCALENDAR
